BEGIN:VCALENDAR
VERSION:2.0
PRODID:-//eventon.com NONSGML v1.0//EN
CALSCALE:GREGORIAN
METHOD:PUBLISH
BEGIN:VEVENT
UID:69eaeadacff5b
DTSTAMP:20260424T040026Z
DTSTART:20210822T074500Z
DTEND:20210822T235000Z
LOCATION:
SUMMARY:Partido de pretemporada EMF Juvenil
DESCRIPTION:Primer partido amistoso de pretemporada 2021-2022 de la Escuela
  Municipal de Fútbol (EMF) Juvenil Consuegra que se enfrentará al Cristo 
 de la Vega CF Juvenil. Comenzamos pruebas\,  preparación y puesta a punto 
 para inicio de liga Jornada 1 el Sábado 11 de septiembre.  Domingo 22 de 
 agosto EN CONSUEGRA a[..]\nhttps://aytoconsuegra.es/agenda-ciudadana/partid
 o-de-pretemporada-emf-juvenil/
URL:https://aytoconsuegra.es/agenda-ciudadana/partido-de-pretemporada-emf-juvenil/
END:VEVENT
END:VCALENDAR