BEGIN:VCALENDAR
VERSION:2.0
PRODID:-//eventon.com NONSGML v1.0//EN
CALSCALE:GREGORIAN
METHOD:PUBLISH
BEGIN:VEVENT
UID:69e80f8cbeae2
DTSTAMP:20260422T000012Z
DTSTART:20230107T110000Z
DTEND:20230107T180000Z
LOCATION:
SUMMARY:Divertilandia. Multihinchables y talleres de globoflexia y pintacaras
DESCRIPTION:#PLANCORRESPONSABLES Dentro del Plan Corresponsables\,  un año
  más\,  el Ayuntamiento de Consuegra pone en marcha el Campamento de Navid
 ad\,  un servicio lúdico y educativo para niños y niñas de 3 a 12 años\
 ,  con varias franjas de edad\,  que funcionará del 23 de diciembre al 5 d
 e enero\,  en los[..]\nhttps://aytoconsuegra.es/agenda-ciudadana/divertilan
 dia-multihinchables-y-talleres-de-globoflexia-y-pintacaras/
URL:https://aytoconsuegra.es/agenda-ciudadana/divertilandia-multihinchables-y-talleres-de-globoflexia-y-pintacaras/
END:VEVENT
END:VCALENDAR