BEGIN:VCALENDAR
VERSION:2.0
PRODID:-//eventon.com NONSGML v1.0//EN
CALSCALE:GREGORIAN
METHOD:PUBLISH
BEGIN:VEVENT
UID:69e7fa1ff0698
DTSTAMP:20260421T222847Z
DTSTART:20230120
DTEND:20230121
LOCATION:
SUMMARY:V Festival Consuegra tiene MAGIA 2023
DESCRIPTION:¡Vuelve Consuegra Tiene Magia! Un año más Consuegra se viste
  de magia. Del 20 al 22 de enero en Teatro Don Quijote. No te quedes sin tu
  abono. Entrada adulto (abono para los tres espectáculos): 12€ Entrada i
 nfantil (abono para los tres espectáculos): 7€ Eventos Manolo Costa y Mi
 ndanguillo &#8211;[..]\nhttps://aytoconsuegra.es/agenda-ciudadana/v-festiva
 l-consuegra-tiene-magia-2023/
URL:https://aytoconsuegra.es/agenda-ciudadana/v-festival-consuegra-tiene-magia-2023/
END:VEVENT
END:VCALENDAR