BEGIN:VCALENDAR
VERSION:2.0
PRODID:-//eventon.com NONSGML v1.0//EN
CALSCALE:GREGORIAN
METHOD:PUBLISH
BEGIN:VEVENT
UID:69e7e28074b55
DTSTAMP:20260421T204800Z
DTSTART:20230120
DTEND:20230121
LOCATION:
SUMMARY:V Festival Consuegra tiene MAGIA 2023 "El loco show de Manolo Costa y Mindanguillo"
DESCRIPTION:¡Vuelve Consuegra Tiene Magia! Un año más Consuegra se viste
  de magia. Del 20 al 22 de enero en Teatro Don Quijote. Manolo Costa y Mind
 anguillo &#8211; Consuegra Tiene Magia 2023 Teatro Don Quijote\,  viernes 2
 0 de enero de 2023 a las 20:30 horas. Entrada adulto: 8€ Entrada Infantil
 : 5€[..]\nhttps://aytoconsuegra.es/agenda-ciudadana/v-festival-consuegra-
 tiene-magia-2023-el-loco-show-de-manolo-costa-y-mindanguillo/
URL:https://aytoconsuegra.es/agenda-ciudadana/v-festival-consuegra-tiene-magia-2023-el-loco-show-de-manolo-costa-y-mindanguillo/
END:VEVENT
END:VCALENDAR