BEGIN:VCALENDAR
VERSION:2.0
PRODID:-//eventon.com NONSGML v1.0//EN
CALSCALE:GREGORIAN
METHOD:PUBLISH
BEGIN:VEVENT
UID:69e7b7148df7b
DTSTAMP:20260421T174244Z
DTSTART:20230121
DTEND:20230122
LOCATION:
SUMMARY:V Festival Consuegra tiene MAGIA 2023 "Civi Civiac presenta Torpeza obliga"
DESCRIPTION:¡Vuelve Consuegra Tiene Magia! Un año más Consuegra se viste
  de magia. Del 20 al 22 de enero en Teatro Don Quijote. Civi Civiac\,  Torp
 eza obliga &#8211; Consuegra Tiene Magia 2023 Teatro Don Quijote\,  Domingo
  22 de enero de 2023 a las 18:00 horas. Entrada Adulto: 5€ Entrada Infant
 il: 3€[..]\nhttps://aytoconsuegra.es/agenda-ciudadana/v-festival-consuegr
 a-tiene-magia-2023-civi-civiac-presenta-torpeza-obliga/
URL:https://aytoconsuegra.es/agenda-ciudadana/v-festival-consuegra-tiene-magia-2023-civi-civiac-presenta-torpeza-obliga/
END:VEVENT
END:VCALENDAR