BEGIN:VCALENDAR
VERSION:2.0
PRODID:-//eventon.com NONSGML v1.0//EN
CALSCALE:GREGORIAN
METHOD:PUBLISH
BEGIN:VEVENT
UID:69e79ec9535b3
DTSTAMP:20260421T155905Z
DTSTART:20230319T190000Z
DTEND:20230319T235000Z
LOCATION:
SUMMARY:CENICIENTA la leyenda\,  un musical de Toy Producciones
DESCRIPTION:TEATRO DON QUIJOTE DE CONSUEGRA CENICIENTA la leyenda\,  un mus
 ical de Toy Producciones DOMINGO 19 DE MARZO DE 2023 19:00 HORAS Entrada Ad
 ulto: 10 € Entrada Infantil: 6€ Todos los públicos Duración: 75 minut
 os CENICIENTA la leyenda: Tras perder a su padre\,  un reconocido explorado
 r\,  la joven Emma queda a[..]\nhttps://aytoconsuegra.es/agenda-ciudadana/c
 enicienta-la-leyenda-un-musical-de-toy-producciones/
URL:https://aytoconsuegra.es/agenda-ciudadana/cenicienta-la-leyenda-un-musical-de-toy-producciones/
END:VEVENT
END:VCALENDAR