BEGIN:VCALENDAR
VERSION:2.0
PRODID:-//eventon.com NONSGML v1.0//EN
CALSCALE:GREGORIAN
METHOD:PUBLISH
BEGIN:VEVENT
UID:69e78662bda7f
DTSTAMP:20260421T141458Z
DTSTART:20230113T210000Z
DTEND:20230113T235000Z
LOCATION:
SUMMARY:Pleno Ordinario (13/01/2023)
DESCRIPTION:Por Resolución de Alcaldía queda convocada SESIÓN ORDINARIA 
 del Pleno\,  que tendrá lugar el próximo día 13 de ENERO de 2023\,  a la
 s 21:00 horas\,  en el Salón de Actos del Ayuntamiento&#8230; + iNFO &nbsp
 ; &nbsp; Síguenos en nuestras redes sociales: #Responsabilidad\nhttps://ay
 toconsuegra.es/agenda-ciudadana/pleno-ordinario-13-01-2023/
URL:https://aytoconsuegra.es/agenda-ciudadana/pleno-ordinario-13-01-2023/
END:VEVENT
END:VCALENDAR