BEGIN:VCALENDAR
VERSION:2.0
PRODID:-//eventon.com NONSGML v1.0//EN
CALSCALE:GREGORIAN
METHOD:PUBLISH
BEGIN:VEVENT
UID:69e76b4ff0cfd
DTSTAMP:20260421T121927Z
DTSTART:20230202T170000Z
DTEND:20230202T235000Z
LOCATION:
SUMMARY:Foro de cine Centro de la Mujer "Las Niñas"
DESCRIPTION:🎥 Foro permanente de cine.  Centro Mujer de Consuegra  El 
 próximo 2 de Febrero\,  a las 17:00h\,  retomamos el FORO PERMANENTE DE #C
 INE\,  con la proyección de la película «LAS NIÑAS»\,  de Pilar Palome
 ro (2020)\,  que ha obtenido numerosos premios. Lugar: Sala polivalente Cen
 tro Mujer de Consuegra (C/ Don Vidal\, [..]\nhttps://aytoconsuegra.es/agend
 a-ciudadana/foro-de-cine-centro-de-la-mujer-las-ninas/
URL:https://aytoconsuegra.es/agenda-ciudadana/foro-de-cine-centro-de-la-mujer-las-ninas/
END:VEVENT
END:VCALENDAR