BEGIN:VCALENDAR
VERSION:2.0
PRODID:-//eventon.com NONSGML v1.0//EN
CALSCALE:GREGORIAN
METHOD:PUBLISH
BEGIN:VEVENT
UID:69e75589c2a17
DTSTAMP:20260421T104633Z
DTSTART:20230218T163000Z
DTEND:20230218T235000Z
LOCATION:
SUMMARY:Carnavales 2023
DESCRIPTION:El Carnaval Consaburense se aproxima\,  a partir de febrero pue
 des inscribirte en el desfile de carrozas y comparsas programado para el 18
  de febrero\,  Desfile de comparsas y carrozas: Sábado 18 de FEBRERO de 20
 23 a las 16:30h. El plazo de inscripción comenzará el día 1 de febrero y
  finalizará[..]\nhttps://aytoconsuegra.es/agenda-ciudadana/carnavales-2023
 /
URL:https://aytoconsuegra.es/agenda-ciudadana/carnavales-2023/
END:VEVENT
END:VCALENDAR