BEGIN:VCALENDAR
VERSION:2.0
PRODID:-//eventon.com NONSGML v1.0//EN
CALSCALE:GREGORIAN
METHOD:PUBLISH
BEGIN:VEVENT
UID:69e73e553c4ae
DTSTAMP:20260421T090733Z
DTSTART:20230130T210000Z
DTEND:20230130T235000Z
LOCATION:
SUMMARY:Pleno Extraordinario y Urgente (30/01/2023)
DESCRIPTION:Por Resolución de Alcaldía queda convocada SESIÓN EXTRAORDIN
 ARIA Y URGENTE del Pleno\,  que tendrá lugar el próximo día 30 de ENERO 
 de 2023\,  a las 21:00 horas\,  en el Salón de Actos del Ayuntamiento. Mo
 tivo: «Declarar de emergencia la contratación de los servicios para la ge
 stión integral de la Residencia de[..]\nhttps://aytoconsuegra.es/agenda-ci
 udadana/pleno-extraordinario-y-urgente-30-01-2023/
URL:https://aytoconsuegra.es/agenda-ciudadana/pleno-extraordinario-y-urgente-30-01-2023/
END:VEVENT
END:VCALENDAR