BEGIN:VCALENDAR
VERSION:2.0
PRODID:-//eventon.com NONSGML v1.0//EN
CALSCALE:GREGORIAN
METHOD:PUBLISH
BEGIN:VEVENT
UID:69e72444676ba
DTSTAMP:20260421T071620Z
DTSTART:20230211T100000Z
DTEND:20230211T235000Z
LOCATION:
SUMMARY:Feria del Amor Fiel por los animales
DESCRIPTION:Con motivo del día de los enamorados se realizará la FERIA DE
 L AMOR FIEL\,  el próximo día 11 de febrero\,  a cargo de los alumnos/as 
 de 2º Grado Superior de Administración del IES CONSABURUM. Miércoles 11 
 de febrero de 2023\,  en Paseo Ramón y Cajal de Consuegra\,  a partir de[.
 .]\nhttps://aytoconsuegra.es/agenda-ciudadana/feria-del-amor-fiel-por-los-a
 nimales/
URL:https://aytoconsuegra.es/agenda-ciudadana/feria-del-amor-fiel-por-los-animales/
END:VEVENT
END:VCALENDAR