BEGIN:VCALENDAR
VERSION:2.0
PRODID:-//eventon.com NONSGML v1.0//EN
CALSCALE:GREGORIAN
METHOD:PUBLISH
BEGIN:VEVENT
UID:69e70e7f4b424
DTSTAMP:20260421T054327Z
DTSTART:20230308
DTEND:20230309
LOCATION:
SUMMARY:Entrega de premios XXIV Certamen Literario "Nuevos Caminos"
DESCRIPTION:Un año más\,  se convoca XXIV CERTAMEN LITERARIO «NUEVOS CAM
 INOS»\,  organizado por la Concejalía de Igualdad del Ayuntamiento de Con
 suegra\,  a través del Centro de la Mujer y la Asociación de Mujeres Nuev
 os Caminos. La ENTREGA DE PREMIOS tendrá lugar en el Teatro Don Quijote d
 e Consuegra el día 8 de[..]\nhttps://aytoconsuegra.es/agenda-ciudadana/ent
 rega-de-premios-xxiv-certamen-literario-nuevos-caminos/
URL:https://aytoconsuegra.es/agenda-ciudadana/entrega-de-premios-xxiv-certamen-literario-nuevos-caminos/
END:VEVENT
END:VCALENDAR