BEGIN:VCALENDAR
VERSION:2.0
PRODID:-//eventon.com NONSGML v1.0//EN
CALSCALE:GREGORIAN
METHOD:PUBLISH
BEGIN:VEVENT
UID:69e6f4d97d574
DTSTAMP:20260421T035401Z
DTSTART:20230218T220000Z
DTEND:20230218T235000Z
LOCATION:
SUMMARY:Concierto EBYN Blanco y Negro (Band Cover El Canto del Loco) + DJ
DESCRIPTION:Con motivo de las fiestas carnavaleras\,  el próximo sábado 1
 8 de febrero\,  tras el término de desfile de comparsas y carrozas\,  tend
 rá lugar en la carpa de Plaza España\,  concierto de la EBYN Blanco y Neg
 ro Band Cover con los mejores temas de la mítica banda El Canto del Loco[.
 .]\nhttps://aytoconsuegra.es/agenda-ciudadana/concierto-ebyn-blanco-y-negro
 -band-cover-el-canto-del-loco-dj/
URL:https://aytoconsuegra.es/agenda-ciudadana/concierto-ebyn-blanco-y-negro-band-cover-el-canto-del-loco-dj/
END:VEVENT
END:VCALENDAR