BEGIN:VCALENDAR
VERSION:2.0
PRODID:-//eventon.com NONSGML v1.0//EN
CALSCALE:GREGORIAN
METHOD:PUBLISH
BEGIN:VEVENT
UID:69e6dd0070cc1
DTSTAMP:20260421T021216Z
DTSTART:20230305T130000Z
DTEND:20230305T235000Z
LOCATION:
SUMMARY:VI Certamen de Bandas Semana Santa 2023
DESCRIPTION:La Junta de Cofradías y Hermandades de Consuegra\,  con la col
 aboración del Excmo. Ayuntamiento de Consuegra\,  organiza el VI CERTEMEN 
 DE BANDAS CCTT SEMANA SANTA 2023\,  el próximo cinco de marzo a la una de 
 la mañana en Plaza España. FECHA: Domingo 5 de marzo de 2023 a las 13:00[
 ..]\nhttps://aytoconsuegra.es/agenda-ciudadana/vi-certamen-de-bandas-semana
 -santa-2023/
URL:https://aytoconsuegra.es/agenda-ciudadana/vi-certamen-de-bandas-semana-santa-2023/
END:VEVENT
END:VCALENDAR