BEGIN:VCALENDAR
VERSION:2.0
PRODID:-//eventon.com NONSGML v1.0//EN
CALSCALE:GREGORIAN
METHOD:PUBLISH
BEGIN:VEVENT
UID:69e6c03513b49
DTSTAMP:20260421T000925Z
DTSTART:20230222T170000Z
DTEND:20230222T235000Z
LOCATION:
SUMMARY:Presentación de libro "En el silencio de aquella pandemia" de David Dylan
DESCRIPTION:Una vez pasado el día de San Valentín\,  os invitamos a que a
 sistáis a nuestra Biblioteca con motivo de la presentación de un libro\, 
  su título es “En el silencio de aquella pandemia” y el nombre del esc
 ritor es DAVID DYLAN\,  médico del Hospital de Toledo\,  próximo miércol
 es 22 de[..]\nhttps://aytoconsuegra.es/agenda-ciudadana/presentacion-de-lib
 ro-en-el-silencio-de-aquella-pandemia-de-david-dylan/
URL:https://aytoconsuegra.es/agenda-ciudadana/presentacion-de-libro-en-el-silencio-de-aquella-pandemia-de-david-dylan/
END:VEVENT
END:VCALENDAR