BEGIN:VCALENDAR
VERSION:2.0
PRODID:-//eventon.com NONSGML v1.0//EN
CALSCALE:GREGORIAN
METHOD:PUBLISH
BEGIN:VEVENT
UID:69e6aae1ab387
DTSTAMP:20260420T223825Z
DTSTART:20230302T100000Z
DTEND:20230302T235000Z
LOCATION:
SUMMARY:Charla informativa para prevenir estafas a personas mayores
DESCRIPTION:Charla informativa impartida por la Cruz Roja el próximo 2 de
  marzo en el Centro de Día de Consuegra  a partir de las 10 de la mañana
 \,  dirigida a personas mayores para prevenir timos y estafas y mejorar su 
 seguridad.  Te esperamos el próximo 2 de marzo a las 10:00h en[..]\nhttps
 ://aytoconsuegra.es/agenda-ciudadana/charla-informativa-para-prevenir-estaf
 as-a-personas-mayores/
URL:https://aytoconsuegra.es/agenda-ciudadana/charla-informativa-para-prevenir-estafas-a-personas-mayores/
END:VEVENT
END:VCALENDAR