BEGIN:VCALENDAR
VERSION:2.0
PRODID:-//eventon.com NONSGML v1.0//EN
CALSCALE:GREGORIAN
METHOD:PUBLISH
BEGIN:VEVENT
UID:69e69384b0fdc
DTSTAMP:20260420T205844Z
DTSTART:20230309T170000Z
DTEND:20230309T235000Z
LOCATION:
SUMMARY:Foro de cine Centro de la Mujer "RESPECT"
DESCRIPTION:Foro permanente de cine.  Centro Mujer de Consuegra  Nuestra 
 cita mensual con el cine será el próximo jueves 9 de marzo\,  con la proy
 ección de «RESPECT»\,  que cuenta la vida de la legendaria cantante Aret
 ha Franklin\,  la Reina del Soul. Fecha: Jueves 9 de marzo de 2023\,  a las
  17:00h.[..]\nhttps://aytoconsuegra.es/agenda-ciudadana/foro-de-cine-centro
 -de-la-mujer-respect/
URL:https://aytoconsuegra.es/agenda-ciudadana/foro-de-cine-centro-de-la-mujer-respect/
END:VEVENT
END:VCALENDAR