BEGIN:VCALENDAR
VERSION:2.0
PRODID:-//eventon.com NONSGML v1.0//EN
CALSCALE:GREGORIAN
METHOD:PUBLISH
BEGIN:VEVENT
UID:69e67c398c989
DTSTAMP:20260420T191921Z
DTSTART:20230308
DTEND:20230309
LOCATION:
SUMMARY:8M Día Internacional de las Mujeres. Programa especial Radio Consuegra y Acto Institucional. Mujeres en la música.
DESCRIPTION:#8marzoconsuegra #8M. El Centro Mujer de Consuegra presenta las
  actividades programadas para conmemorar y visibilizar el Día Internaciona
 l de las Mujeres. Este año\,  la música será el hilo conductor de difere
 ntes actividades\,  por eso\,  el acto institucional que se llevará a cabo
  el 8 marzo en el Teatro Don Quijote[..]\nhttps://aytoconsuegra.es/agenda-c
 iudadana/8m-dia-internacional-de-las-mujeres-programa-especial-radio-consue
 gra-y-acto-institucional-mujeres-en-la-musica/
URL:https://aytoconsuegra.es/agenda-ciudadana/8m-dia-internacional-de-las-mujeres-programa-especial-radio-consuegra-y-acto-institucional-mujeres-en-la-musica/
END:VEVENT
END:VCALENDAR