BEGIN:VCALENDAR
VERSION:2.0
PRODID:-//eventon.com NONSGML v1.0//EN
CALSCALE:GREGORIAN
METHOD:PUBLISH
BEGIN:VEVENT
UID:69e6643bcd748
DTSTAMP:20260420T173659Z
DTSTART:20230222
DTEND:20230223
LOCATION:
SUMMARY:SEMANA SANTA 2023
DESCRIPTION:La Junta de Cofradías y Hermandades de Consuegra y la Parroqui
 a de Santa María\,  y con la colaboración del Excmo. Ayuntamiento de Cons
 uegra\,  presentan la programación de los actos y cultos litúrgicos con m
 otivo de la Semana Santa 2023 Programa Semana Santa 2023 (revista completa 
 en pdf ) Saludas Semana[..]\nhttps://aytoconsuegra.es/agenda-ciudadana/sema
 na-santa-2023/
URL:https://aytoconsuegra.es/agenda-ciudadana/semana-santa-2023/
END:VEVENT
END:VCALENDAR