BEGIN:VCALENDAR
VERSION:2.0
PRODID:-//eventon.com NONSGML v1.0//EN
CALSCALE:GREGORIAN
METHOD:PUBLISH
BEGIN:VEVENT
UID:69e64b3a67730
DTSTAMP:20260420T155018Z
DTSTART:20230415
DTEND:20230416
LOCATION:
SUMMARY:I Torneo de Ajedrez Castillo de Consuegra 2023
DESCRIPTION:La Concejalía de Deportes y Juventud del Ayuntamiento de Consu
 egra presentan la primera edición TORNEO DE AJEDREZ 2023 que tendrá lugar
  el 15 de abril en el Castillo\,  con recaudación benéfica a favor de la 
 investigación contra la ELA.  CUANDO: Sábado 15 de abril de 2023\,  a la
 s 16:00h. DÓNDE:[..]\nhttps://aytoconsuegra.es/agenda-ciudadana/i-torneo-d
 e-ajedrez-castillo-de-consuegra-2023/
URL:https://aytoconsuegra.es/agenda-ciudadana/i-torneo-de-ajedrez-castillo-de-consuegra-2023/
END:VEVENT
END:VCALENDAR