BEGIN:VCALENDAR
VERSION:2.0
PRODID:-//eventon.com NONSGML v1.0//EN
CALSCALE:GREGORIAN
METHOD:PUBLISH
BEGIN:VEVENT
UID:69e62e201f8c1
DTSTAMP:20260420T134608Z
DTSTART:20230403
DTEND:20230404
LOCATION:
SUMMARY:Fútbol Sala Junior. Torneo de Semana Santa Consuegra 2023
DESCRIPTION:La Entidad Prestadora de Servicios a la Juventud EPSJ 14/Treint
 a Deorte\,  Ocio y Tiempo Libre\,  con la colaboración del Excmo. Ayuntami
 ento de Consuegra\,  organiza TORNEO DE SEMANA SANTA DE FÚTBOL SALA JUNIOR
 . CUÁNDO: 3\,  4 y 5 de abril de 2022. DÓNDE: Complejo Deportivo Municipa
 l de Consuegra. PRECIO: 6 €[..]\nhttps://aytoconsuegra.es/agenda-ciudadan
 a/futbol-sala-junior-torneo-de-semana-santa-consuegra-2023/
URL:https://aytoconsuegra.es/agenda-ciudadana/futbol-sala-junior-torneo-de-semana-santa-consuegra-2023/
END:VEVENT
END:VCALENDAR