BEGIN:VCALENDAR
VERSION:2.0
PRODID:-//eventon.com NONSGML v1.0//EN
CALSCALE:GREGORIAN
METHOD:PUBLISH
BEGIN:VEVENT
UID:69e616d83aaa4
DTSTAMP:20260420T120648Z
DTSTART:20230324T050000Z
DTEND:20230324T180000Z
LOCATION:
SUMMARY:Taller de inglés para los más peques en la Biblioteca Municipal
DESCRIPTION:¿Quieres que tus niñ@s pasen una tarde diferente en la Biblio
 teca? ¿Quieres que aprendan inglés además de concienciarl@s sobre los pr
 oblemas de la moda rápida? El próximo viernes 24 de marzo de 17h a 18h se
  llevará a cabo a través de @lorna_world_stories un cuento interactivo + 
 una manualidad. ¡Será[..]\nhttps://aytoconsuegra.es/agenda-ciudadana/tall
 er-de-ingles-para-los-mas-peques-en-la-biblioteca-municipal/
URL:https://aytoconsuegra.es/agenda-ciudadana/taller-de-ingles-para-los-mas-peques-en-la-biblioteca-municipal/
END:VEVENT
END:VCALENDAR