BEGIN:VCALENDAR
VERSION:2.0
PRODID:-//eventon.com NONSGML v1.0//EN
CALSCALE:GREGORIAN
METHOD:PUBLISH
BEGIN:VEVENT
UID:69e5fc3a51898
DTSTAMP:20260420T101314Z
DTSTART:20230320T160000Z
DTEND:20230320T200000Z
LOCATION:
SUMMARY:Punto de Información Orgánica en Plaza España
DESCRIPTION:El próximo lunes 20 de marzo el punto informativo itinerante s
 obre los residuos orgánicos estará instalado en Consuegra\,  con el objet
 ivo de informar y resolver las dudas de la población sobre la correcta sep
 aración en origen de los residuos orgánicos y su depósito en los contene
 dores marrones\,  que ya están[..]\nhttps://aytoconsuegra.es/agenda-ciudad
 ana/punto-de-informacion-organica-en-plaza-espana/
URL:https://aytoconsuegra.es/agenda-ciudadana/punto-de-informacion-organica-en-plaza-espana/
END:VEVENT
END:VCALENDAR