BEGIN:VCALENDAR
VERSION:2.0
PRODID:-//eventon.com NONSGML v1.0//EN
CALSCALE:GREGORIAN
METHOD:PUBLISH
BEGIN:VEVENT
UID:69e5e4551c262
DTSTAMP:20260420T083117Z
DTSTART:20230428T160000Z
DTEND:20230428T225000Z
LOCATION:
SUMMARY:Entrega de premios XIX Concurso Literario Infantil Francisco de la Poza 2023
DESCRIPTION:Por iniciativa del Colegio Público Sto. Cristo de la Veracruz 
 y en colaboración con el Colegio Público Miguel de Cervantes\,  la Concej
 alía de Cultura del Ayuntamiento de Consuegra convoca la diecinueve edici
 n del concurso literario infantil\,  “Francisco de la Poza” 2023. Este
  evento se realiza en recuerdo y como agradecimiento[..]\nhttps://aytoconsu
 egra.es/agenda-ciudadana/entrega-de-premios-xix-concurso-literario-infantil
 -francisco-de-la-poza-2023/
URL:https://aytoconsuegra.es/agenda-ciudadana/entrega-de-premios-xix-concurso-literario-infantil-francisco-de-la-poza-2023/
END:VEVENT
END:VCALENDAR