BEGIN:VCALENDAR
VERSION:2.0
PRODID:-//eventon.com NONSGML v1.0//EN
CALSCALE:GREGORIAN
METHOD:PUBLISH
BEGIN:VEVENT
UID:69e4f60625e09
DTSTAMP:20260419T153430Z
DTSTART:20230903
DTEND:20230904
LOCATION:
SUMMARY:Ultimo día Piscina Municipal de Verano
DESCRIPTION:El domingo 3 de septiembre (inclusive) último día que la Pisc
 ina Municipal de Verano de Consuegra abrirá sus puertas\,  dando por final
 izada la temporada estival 2023.  Síguenos en nuestras redes sociales:\nh
 ttps://aytoconsuegra.es/agenda-ciudadana/ultimo-dia-piscina-municipal-de-ve
 rano/
URL:https://aytoconsuegra.es/agenda-ciudadana/ultimo-dia-piscina-municipal-de-verano/
END:VEVENT
END:VCALENDAR