BEGIN:VCALENDAR
VERSION:2.0
PRODID:-//eventon.com NONSGML v1.0//EN
CALSCALE:GREGORIAN
METHOD:PUBLISH
BEGIN:VEVENT
UID:69e9d8618fae5
DTSTAMP:20260423T082921Z
DTSTART:20230827T180000Z
DTEND:20230827T225000Z
LOCATION:
SUMMARY:Pretemporada Atlético Consuegra (Tercer partido)
DESCRIPTION:Tercer partido de PRETEMPORADA del Club Atlético Consuegra C.D
  ORGACEÑO Domingo 27 de agosto 19:00h Campo Deportes «El Amarguillo»\nht
 tps://aytoconsuegra.es/agenda-ciudadana/pretemporada-atletico-consuegra-ter
 cer-partido/
URL:https://aytoconsuegra.es/agenda-ciudadana/pretemporada-atletico-consuegra-tercer-partido/
END:VEVENT
END:VCALENDAR