BEGIN:VCALENDAR
VERSION:2.0
PRODID:-//eventon.com NONSGML v1.0//EN
CALSCALE:GREGORIAN
METHOD:PUBLISH
BEGIN:VEVENT
UID:69e5fc8621ab6
DTSTAMP:20260420T101430Z
DTSTART:20230909T230000Z
DTEND:20230910T225000Z
LOCATION:
SUMMARY:Reunión informativa Liga Local de Fútbol Sala 2023/2024
DESCRIPTION:La Asociación Fútbol Sala de Consuegra y el Excmo. Ayuntamien
 to de Consuegra\,  organizan la próxima LIGA LOCAL DE FÚTBOL SALA 2023/20
 24.  Se convoca a un jugador por equipo a la REUNIÓN INFORMATIVA que tend
 rá lugar el domingo 10 de septiembre a las 12 de la mañana en Piscina Cub
 ierta. Inscripción[..]\nhttps://aytoconsuegra.es/agenda-ciudadana/reunion-
 informativa-liga-local-de-futbol-sala-2023-2024/
URL:https://aytoconsuegra.es/agenda-ciudadana/reunion-informativa-liga-local-de-futbol-sala-2023-2024/
END:VEVENT
END:VCALENDAR