BEGIN:VCALENDAR
VERSION:2.0
PRODID:-//eventon.com NONSGML v1.0//EN
CALSCALE:GREGORIAN
METHOD:PUBLISH
BEGIN:VEVENT
UID:69e5fbaef01f8
DTSTAMP:20260420T101054Z
DTSTART:20231022T103000Z
DTEND:20231022T123000Z
LOCATION:
SUMMARY:X Encuentro de Rondas Rosa del Azafrán 2023
DESCRIPTION:Como preámbulo de la 61 edición del Festival Nacional de Folc
 lore “Rosa del Azafrán”\,  llega el tradicional ENCUENTRO DE RONDAS\, 
  alcanzando este año su décima edición. Un encuentro desenfadado donde e
 l folclore y la música tradicional se bajan de los escenarios para el disf
 rute de grandes y pequeños\,  sin barreras. [..]\nhttps://aytoconsuegra.e
 s/agenda-ciudadana/x-encuentro-de-rondas-rosa-del-azafran-2023/
URL:https://aytoconsuegra.es/agenda-ciudadana/x-encuentro-de-rondas-rosa-del-azafran-2023/
END:VEVENT
END:VCALENDAR