BEGIN:VCALENDAR
VERSION:2.0
PRODID:-//eventon.com NONSGML v1.0//EN
CALSCALE:GREGORIAN
METHOD:PUBLISH
BEGIN:VEVENT
UID:69e884d7a2eb0
DTSTAMP:20260422T082039Z
DTSTART:20231004
DTEND:20231005
LOCATION:
SUMMARY:MANCHARTE\,  exposición itinerante de arte en Consuegra
DESCRIPTION:ManchArte es más que una exposición de temática libre\,  es 
 un movimiento\,  del que artistas\,  pintores y escultores\,  forman parte 
 en estos momentos.  DEL 4 AL 29 DE OCTUBRE de 2023 En horario de 13:00 a 1
 5:00 y de 16:30 a 18:00\,  todos los días. Museo Arqueológico de Consuegr
 a (Plaza[..]\nhttps://aytoconsuegra.es/agenda-ciudadana/mancharte-exposicio
 n-itinerante-de-arte-en-consuegra/
URL:https://aytoconsuegra.es/agenda-ciudadana/mancharte-exposicion-itinerante-de-arte-en-consuegra/
END:VEVENT
END:VCALENDAR