BEGIN:VCALENDAR
VERSION:2.0
PRODID:-//eventon.com NONSGML v1.0//EN
CALSCALE:GREGORIAN
METHOD:PUBLISH
BEGIN:VEVENT
UID:69e5fbcd321ff
DTSTAMP:20260420T101125Z
DTSTART:20231015T153000Z
DTEND:20231015T225000Z
LOCATION:
SUMMARY:Fútbol. Jornada 5 Atletico Consuegra vs C.D. Polán
DESCRIPTION:📢FÚTBOL. ⚽️ Atlético Consuegra. Primera División Auto
 nómica. GRUPO III. Jornada 5   🗓️ Domingo 15 de octubre de 2023\,  1
 6:30h.   🆚 C.D. POLÁN.   📍 Campo Fútbol «El Amarguillo».   ℹ
 ️ https://www.facebook.com/profile.php?id=100054517296875 Síguenos en nu
 estras redes sociales:\nhttps://aytoconsuegra.es/agenda-ciudadana/futbol-jo
 rnada-5-atletico-consuegra-vs-c-d-polan/
URL:https://aytoconsuegra.es/agenda-ciudadana/futbol-jornada-5-atletico-consuegra-vs-c-d-polan/
END:VEVENT
END:VCALENDAR