BEGIN:VCALENDAR
VERSION:2.0
PRODID:-//eventon.com NONSGML v1.0//EN
CALSCALE:GREGORIAN
METHOD:PUBLISH
BEGIN:VEVENT
UID:69e5fc217de8f
DTSTAMP:20260420T101249Z
DTSTART:20231022T180000Z
DTEND:20231022T225000Z
LOCATION:
SUMMARY:Encuentro de Rondallas Ciudad de Consuegra 2023
DESCRIPTION:El grupo de Rondalla y Coros del Centro de DÃ­a de Consuegra or
 ganiza el VII ENCUENTRO DE RONDALLAS. Este aÃ±o a beneficio de la AsociaciÃ
 ³n EspaÃ±ola contra el CÃ¡ncer (AECC). AsÃ­ que no tenÃ©is excusas\,  ademÃ
 ¡s de pasar un buen rato disfrutando de buena mÃºsica\,  estarÃ©is colabora
 ndo por una excelente[..]\nhttps://aytoconsuegra.es/agenda-ciudadana/encuen
 tro-de-rondallas-ciudad-de-consuegra-2023/
URL:https://aytoconsuegra.es/agenda-ciudadana/encuentro-de-rondallas-ciudad-de-consuegra-2023/
END:VEVENT
END:VCALENDAR