BEGIN:VCALENDAR
VERSION:2.0
PRODID:-//eventon.com NONSGML v1.0//EN
CALSCALE:GREGORIAN
METHOD:PUBLISH
BEGIN:VEVENT
UID:69e731ec85114
DTSTAMP:20260421T081436Z
DTSTART:20231103T100000Z
DTEND:20231103T235000Z
LOCATION:
SUMMARY:Ruta Senderista "PRESA ROMANA"
DESCRIPTION:Con fecha de hoy viernes 3 de noviembre a las 10 de la mañana 
 en Plaza España\,  ha tenido lugar el pistoletazo de salida y recepción d
 e los participantes en la Ruta Senderista «Presa Romana» por las autorida
 des municipales antes del inicio de la etapa. La Sra. Alcaldesa agradeció 
 a[..]\nhttps://aytoconsuegra.es/agenda-ciudadana/ruta-senderista-presa-roma
 na/
URL:https://aytoconsuegra.es/agenda-ciudadana/ruta-senderista-presa-romana/
END:VEVENT
END:VCALENDAR