BEGIN:VCALENDAR
VERSION:2.0
PRODID:-//eventon.com NONSGML v1.0//EN
CALSCALE:GREGORIAN
METHOD:PUBLISH
BEGIN:VEVENT
UID:69e633f90ac67
DTSTAMP:20260420T141105Z
DTSTART:20231223T230000Z
DTEND:20231223T170000Z
LOCATION:
SUMMARY:El molino de Papá Noel
DESCRIPTION:La Asociación Cultural Batalla Medieval con la colaboración d
 el Ayuntamiento de Consuegra\,  presentan el siguiente evento navideño.  
 EVENTO: El molino de Papá Noel. CÚANDO: Sábado 23 de diciembre de 2023\,
   de 11:00 a 14:00 y 15:30 a 17:00 DÓNDE:  Molino «Caballero del Verde G
 abán» #consuegra Trae tu carta y conoce[..]\nhttps://aytoconsuegra.es/age
 nda-ciudadana/el-molino-de-papa-noel/
URL:https://aytoconsuegra.es/agenda-ciudadana/el-molino-de-papa-noel/
END:VEVENT
END:VCALENDAR