BEGIN:VCALENDAR
VERSION:2.0
PRODID:-//eventon.com NONSGML v1.0//EN
CALSCALE:GREGORIAN
METHOD:PUBLISH
BEGIN:VEVENT
UID:69e731db241d7
DTSTAMP:20260421T081419Z
DTSTART:20240218T073000Z
DTEND:20240218T235900Z
LOCATION:
SUMMARY:Ruta de Senderismo Corral de Cantos (Toledo)
DESCRIPTION:El Área Municipal de Deportes del Ayuntamiento de Consuegra or
 ganiza la siguiente ruta de senderismo que tendrá lugar el próximo  18 d
 e febrero RUTA: SUBIDA AL PICO CORRAL DE CANTOS (Toledo) La segunda montañ
 a más elevada de los Montes de Toledo (1419 metros). Domingo 18 de febrero
  de 2024 Salida:[..]\nhttps://aytoconsuegra.es/agenda-ciudadana/ruta-de-sen
 derismo-corral-de-cantos-toledo/
URL:https://aytoconsuegra.es/agenda-ciudadana/ruta-de-senderismo-corral-de-cantos-toledo/
END:VEVENT
END:VCALENDAR