BEGIN:VCALENDAR
VERSION:2.0
PRODID:-//eventon.com NONSGML v1.0//EN
CALSCALE:GREGORIAN
METHOD:PUBLISH
BEGIN:VEVENT
UID:69e5e4818d0fa
DTSTAMP:20260420T083201Z
DTSTART:20240518T190000Z
DTEND:20240518T225900Z
LOCATION:
SUMMARY:Banda Sinfónica de Consuegra "VIENTOS  DE PELÍCULA"
DESCRIPTION:TEATRO DON QUIJOTE DE CONSUEGRA Banda Sinfónica de Consuegra\,
    presenta VIENTOS DE PELÍCULA. SÁBADO 18 MAYO 2024 20:00 H Entradas de
 sde 5€ La Banda Sinfónica de Consuegra presenta Vientos de película !!
 !extraordinario concierto!!! Director: Vicente M. Palop Valero Venta de Ent
 radas en taquilla: jueves y viernes de 11:30 a 13:30h.; jueves[..]\nhttps:/
 /aytoconsuegra.es/agenda-ciudadana/extraordinario-concierto-de-la-banda-sin
 fonica-de-consuegra-vientos-de-pelicula/
URL:https://aytoconsuegra.es/agenda-ciudadana/extraordinario-concierto-de-la-banda-sinfonica-de-consuegra-vientos-de-pelicula/
END:VEVENT
END:VCALENDAR