BEGIN:VCALENDAR
VERSION:2.0
PRODID:-//eventon.com NONSGML v1.0//EN
CALSCALE:GREGORIAN
METHOD:PUBLISH
BEGIN:VEVENT
UID:69e5fc314177c
DTSTAMP:20260420T101305Z
DTSTART:20240517
DTEND:20240518
LOCATION:
SUMMARY:Torneo de Primavera Pádel Consuegra 2024. Categoría masculina y femenina
DESCRIPTION: Consuegra Padel Club con la colaboración de la Concejalía d
 e Deportes y Juventud del Ayuntamiento de Consuegra organiza torneo  de p
 del. TORNEO DE PRIMAVERA DE PADEL 2024.  Del 17 al 19 de mayo. CATEGORÍA
 S: Masculina y Femenina SOCIOS 20€ por pareja. NO SOCIOS 30€ por pareja
 . Inscripciones abiertas hasta el[..]\nhttps://aytoconsuegra.es/agenda-ciud
 adana/torneo-de-primavera-padel-consuegra-2024-categoria-masculina-y-femeni
 na/
URL:https://aytoconsuegra.es/agenda-ciudadana/torneo-de-primavera-padel-consuegra-2024-categoria-masculina-y-femenina/
END:VEVENT
END:VCALENDAR