BEGIN:VCALENDAR
VERSION:2.0
PRODID:-//eventon.com NONSGML v1.0//EN
CALSCALE:GREGORIAN
METHOD:PUBLISH
BEGIN:VEVENT
UID:69e616d81f6c3
DTSTAMP:20260420T120648Z
DTSTART:20240517
DTEND:20240518
LOCATION:
SUMMARY:Torneo de Verano Infantil Pádel Consuegra 2024
DESCRIPTION:Consuegra Padel Club con la colaboración de la Concejalía de 
 Deporte del Excmo. Ayuntamiento de Consuegra organiza torneo veraniego de p
 ádel para los más pequeños. TORNEO INFNATIL DE PADEL 2024.  Del 17 al 1
 9 de mayo. CATEGORÍAS: Masculina y Femenina SOCIOS 10€ por pareja NO SOC
 IOS 15€ por pareja. Inscripciones[..]\nhttps://aytoconsuegra.es/agenda-ci
 udadana/torneo-de-verano-infantil-padel-consuegra-2024/
URL:https://aytoconsuegra.es/agenda-ciudadana/torneo-de-verano-infantil-padel-consuegra-2024/
END:VEVENT
END:VCALENDAR