BEGIN:VCALENDAR
VERSION:2.0
PRODID:-//eventon.com NONSGML v1.0//EN
CALSCALE:GREGORIAN
METHOD:PUBLISH
BEGIN:VEVENT
UID:69e62a030a77b
DTSTAMP:20260420T132835Z
DTSTART:20240518T190000Z
DTEND:20240518T225900Z
LOCATION:
SUMMARY:Agarita Chamber Players En Concierto
DESCRIPTION:TEATRO DON QUIJOTE DE CONSUEGRA Agarita Chamber Players en Conc
 ierto &nbsp; DOMINGO 26 MAYO 2024 19:00 H Entradas desde 5€ Duración: 8
 0 min. Todos los públicos AGARITA CHAMBER PLAYERS EN CONCIERTO Un conjunto
  de cámara innovador dedicado a producir eventos musicales audaces y colab
 orativos\,  Agarita ofrece una nueva forma de experimentar[..]\nhttps://ayt
 oconsuegra.es/agenda-ciudadana/agarita-chamber-players-en-concierto/
URL:https://aytoconsuegra.es/agenda-ciudadana/agarita-chamber-players-en-concierto/
END:VEVENT
END:VCALENDAR