BEGIN:VCALENDAR
VERSION:2.0
PRODID:-//eventon.com NONSGML v1.0//EN
CALSCALE:GREGORIAN
METHOD:PUBLISH
BEGIN:VEVENT
UID:69e6783206a36
DTSTAMP:20260420T190210Z
DTSTART:20240602T190000Z
DTEND:20240602T225900Z
LOCATION:
SUMMARY:Mamma Mia! La que se avecina!\,  por Miserables.Con (Tercera función)
DESCRIPTION:TEATRO DON QUIJOTE DE CONSUEGRA La Asociación Miserables.Con p
 resenta ¡Mamma Mia! ¡La que se avecina! &nbsp; JUEVES 30 MAYO 2024 20:00 
 HORAS VIERNES 31 MAYO 2024 20:00 HORAS DOMINGO 2 JUNIO 2024 20:00 HORAS Ent
 rada 10 € Duración aproximada 120 min.  Todos los públicos MISERABLES.
 CON presenta MAMMA MIA! LA QUE SE AVECINA![..]\nhttps://aytoconsuegra.es/
 agenda-ciudadana/mamma-mia-la-que-se-avecina-por-miserables-con-tercera-fun
 cion/
URL:https://aytoconsuegra.es/agenda-ciudadana/mamma-mia-la-que-se-avecina-por-miserables-con-tercera-funcion/
END:VEVENT
END:VCALENDAR