BEGIN:VCALENDAR
VERSION:2.0
PRODID:-//eventon.com NONSGML v1.0//EN
CALSCALE:GREGORIAN
METHOD:PUBLISH
BEGIN:VEVENT
UID:69e691852727d
DTSTAMP:20260420T205013Z
DTSTART:20240517T180000Z
DTEND:20240517T235900Z
LOCATION:
SUMMARY:Clausura de la Escuela Municipal de Baloncesto. Temporada 2023/2024
DESCRIPTION:Ceremonia de CLAUSURA de la Escuela Municipal de Baloncesto  #
 Consuegra. Viernes 17 de mayo de 2024 a las 18:00 horas.  Polideportivo Mu
 nicipal «Pabellón».   ENTRADA LIBRE\nhttps://aytoconsuegra.es/agenda-ci
 udadana/clausura-de-la-escuela-municipal-de-baloncesto-temporada-2023-2024/
URL:https://aytoconsuegra.es/agenda-ciudadana/clausura-de-la-escuela-municipal-de-baloncesto-temporada-2023-2024/
END:VEVENT
END:VCALENDAR