BEGIN:VCALENDAR
VERSION:2.0
PRODID:-//eventon.com NONSGML v1.0//EN
CALSCALE:GREGORIAN
METHOD:PUBLISH
BEGIN:VEVENT
UID:69e6a54b0b845
DTSTAMP:20260420T221435Z
DTSTART:20240529T170000Z
DTEND:20240529T235900Z
LOCATION:
SUMMARY:IV Convivencia Intercentros Basket 3x3 (29/05/2024)
DESCRIPTION:La Escuela Municipal de Baloncesto de Consuegra\,   junto a la
 s AMPAS CEIP  Miguel de Cervantes y CEIP Santo Cristo de la Veracruz\,  or
 ganizan IV Convivencia INTERCENTROS BASKET 3X3 FASE FINAL\,  próximo miér
 coles  29 de mayo. IV CONVIVENCIA INTERCENTROS CONSUEGRA BASKET 3X3 FASE F
 INAL.  CUÁNDO: Miércoles 29 de mayo\,  a las[..]\nhttps://aytoconsuegra.
 es/agenda-ciudadana/iv-convivencia-intercentros-basket-3x3-29-05-2024/
URL:https://aytoconsuegra.es/agenda-ciudadana/iv-convivencia-intercentros-basket-3x3-29-05-2024/
END:VEVENT
END:VCALENDAR