BEGIN:VCALENDAR
VERSION:2.0
PRODID:-//eventon.com NONSGML v1.0//EN
CALSCALE:GREGORIAN
METHOD:PUBLISH
BEGIN:VEVENT
UID:69e6bacae5915
DTSTAMP:20260420T234618Z
DTSTART:20240604T153000Z
DTEND:20240604T225900Z
LOCATION:
SUMMARY:XVIII Jornada Jurídica " Ley Orgçanica 8/2021 de 4 de junio\,  de protección integral de la infancia y la adolescencia frente a la violencia
DESCRIPTION:Un año más\,  los Centros de la Mujer de Madridejos\,  Consue
 gra\,  Villacañas y Villafranca de los Caballeros. hemos organizado nuestr
 a jornada jurídica anual. Tendrá lugar el próximo 4 de junio en Consuegr
 a.  Abordaremos cuestiones prácticas y de aplicación de la LEY ORGÁNICA
  8/2021\,  DE 4 DE JUNIO\,  DE PROTECCIÓN INTEGRAL[..]\nhttps://aytoconsue
 gra.es/agenda-ciudadana/xviii-jornada-juridica-ley-orgcanica-8-2021-de-4-de
 -junio-de-proteccion-integral-de-la-infancia-y-la-adolescencia-frente-a-la-
 violencia/
URL:https://aytoconsuegra.es/agenda-ciudadana/xviii-jornada-juridica-ley-orgcanica-8-2021-de-4-de-junio-de-proteccion-integral-de-la-infancia-y-la-adolescencia-frente-a-la-violencia/
END:VEVENT
END:VCALENDAR