BEGIN:VCALENDAR
VERSION:2.0
PRODID:-//eventon.com NONSGML v1.0//EN
CALSCALE:GREGORIAN
METHOD:PUBLISH
BEGIN:VEVENT
UID:69e6d10831516
DTSTAMP:20260421T012112Z
DTSTART:20240705
DTEND:20240706
LOCATION:
SUMMARY:Maratón de Fútbol Sala Senior Consuegra 2024
DESCRIPTION:La Asociación Liga Fútbol Sala de Consuegra junto a la Concej
 alía de Deportes del Excmo. Ayuntamiento de Consuegra\,  organizan MARATÓ
 N DE FÚTBOL SALA que tendrá lugar del 5 al 7 de julio. MARATON DE FUTBOL
  SALA DE CONSUEGRA 2024   CUÁNDO:  5\,  6 y 7 de julio.   DÓNDE: Compl
 ejo Deportivo[..]\nhttps://aytoconsuegra.es/agenda-ciudadana/maraton-de-fut
 bol-sala-senior-consuegra-2024/
URL:https://aytoconsuegra.es/agenda-ciudadana/maraton-de-futbol-sala-senior-consuegra-2024/
END:VEVENT
END:VCALENDAR