BEGIN:VCALENDAR
VERSION:2.0
PRODID:-//eventon.com NONSGML v1.0//EN
CALSCALE:GREGORIAN
METHOD:PUBLISH
BEGIN:VEVENT
UID:69e6e552c62b4
DTSTAMP:20260421T024746Z
DTSTART:20240629T200000Z
DTEND:20240629T225900Z
LOCATION:
SUMMARY:Mr. Kilombo en concierto 'Atardeceres con ALMA' en Consuegra
DESCRIPTION:El próximo 29 de junio\,  la explanada frente al Molino Rucio 
 en Consuegra será el escenario del concierto de Mr. Kilombo\,  que visitar
 á de nuevo los atardeceres de Consuegra\,  dentro del ciclo «Atardeceres 
 con ALMA». Promovido por Bodega Bogarve 1915 y el Ayuntamiento de Consuegr
 a\,  este evento ofrece una experiencia[..]\nhttps://aytoconsuegra.es/agend
 a-ciudadana/mr-kilombo-en-concierto-atardeceres-con-alma-en-consuegra/
URL:https://aytoconsuegra.es/agenda-ciudadana/mr-kilombo-en-concierto-atardeceres-con-alma-en-consuegra/
END:VEVENT
END:VCALENDAR