BEGIN:VCALENDAR
VERSION:2.0
PRODID:-//eventon.com NONSGML v1.0//EN
CALSCALE:GREGORIAN
METHOD:PUBLISH
BEGIN:VEVENT
UID:69e6ffd7c240c
DTSTAMP:20260421T044055Z
DTSTART:20240602T173000Z
DTEND:20240602T225900Z
LOCATION:
SUMMARY:Monumental novillada con picadores
DESCRIPTION:La plaza de toros de la localidad toledana de Consuegra acogerÃ
 ¡ el domingo 2 de junio MONUMENTAL NOVILLADA CON PICADORES. MONUMENTAL NOVI
 LLADA CON PICADORES en Plaza de Toros #consuegra ðŸ“† Domingo 2 de junio ðŸ
 •¡18:30h Para los novilleros VILLITA\,  AARON INFANTES y MIGUEL SERRANO ðŸŽ
 «Entradas en taquilla de Plaza Toros[..]\nhttps://aytoconsuegra.es/agenda-c
 iudadana/monumental-novillada-con-picadores/
URL:https://aytoconsuegra.es/agenda-ciudadana/monumental-novillada-con-picadores/
END:VEVENT
END:VCALENDAR