BEGIN:VCALENDAR
VERSION:2.0
PRODID:-//eventon.com NONSGML v1.0//EN
CALSCALE:GREGORIAN
METHOD:PUBLISH
BEGIN:VEVENT
UID:69e7183679e96
DTSTAMP:20260421T062454Z
DTSTART:20240608T233000Z
DTEND:20240609T225900Z
LOCATION:
SUMMARY:Banda Joven de la Escuela de Música y Danza en concierto "Vuelta a los 70\,  80 y 90"
DESCRIPTION:El 9 de Junio de 2024 tendrá lugar el concierto gratuito «Vue
 lta a los 70\,  80 y 90s» en Plaza de España realizado por la Banda Joven
  de la Escuela de Música y Danza de Consuegra. Horario: 9 Junio 12:30h. Lu
 gar: Consuegra\,  Plaza de España. Entrada Gratuita.   Escuela Municipal[
 ..]\nhttps://aytoconsuegra.es/agenda-ciudadana/banda-joven-de-la-escuela-de
 -musica-y-danza-presenta-vuelta-a-los-70-80-y-90/
URL:https://aytoconsuegra.es/agenda-ciudadana/banda-joven-de-la-escuela-de-musica-y-danza-presenta-vuelta-a-los-70-80-y-90/
END:VEVENT
END:VCALENDAR