BEGIN:VCALENDAR
VERSION:2.0
PRODID:-//eventon.com NONSGML v1.0//EN
CALSCALE:GREGORIAN
METHOD:PUBLISH
BEGIN:VEVENT
UID:69e72ca614087
DTSTAMP:20260421T075206Z
DTSTART:20240621
DTEND:20240622
LOCATION:
SUMMARY:Torneo de Verano Pádel Consuegra 2024
DESCRIPTION:Consuegra Padel Club con la colaboración de la Concejalía de 
 Deporte del Excmo. Ayuntamiento de Consuegra\,  organiza TORNEO DE VERANO D
 E PADEL 2024. Torneo de Verano Pádel 2024 CUÁNDO: 21\,  22 y 23 de junio 
 DÓNDO: Complejo Deportivo Municipal (C/ Urda\,  s/n) Socios 20€ por pare
 ja / No Socios 30€[..]\nhttps://aytoconsuegra.es/agenda-ciudadana/torneo-
 de-verano-padel-consuegra-2024/
URL:https://aytoconsuegra.es/agenda-ciudadana/torneo-de-verano-padel-consuegra-2024/
END:VEVENT
END:VCALENDAR