BEGIN:VCALENDAR
VERSION:2.0
PRODID:-//eventon.com NONSGML v1.0//EN
CALSCALE:GREGORIAN
METHOD:PUBLISH
BEGIN:VEVENT
UID:69e740ce3e1cb
DTSTAMP:20260421T091806Z
DTSTART:20240816
DTEND:20240817
LOCATION:
SUMMARY:XXVIII Consuegra Medieval 2024
DESCRIPTION:Vigésima octava edición de Consuegra Medieval del 16 al 18 de
  agosto. Declarada de interés turístico regional. «Vive una experiencia 
 histórica. Trasládate a la Edad Media en el Castillo de Consuegra» Bande
 ras ondean en la lejanía\,  el aire se torna denso y agobiante. El rumor q
 ue recorre las tropas cada[..]\nhttps://aytoconsuegra.es/agenda-ciudadana/x
 xviii-consuegra-medieval-2024/
URL:https://aytoconsuegra.es/agenda-ciudadana/xxviii-consuegra-medieval-2024/
END:VEVENT
END:VCALENDAR