BEGIN:VCALENDAR
VERSION:2.0
PRODID:-//eventon.com NONSGML v1.0//EN
CALSCALE:GREGORIAN
METHOD:PUBLISH
BEGIN:VEVENT
UID:69e858cd73bd2
DTSTAMP:20260422T051245Z
DTSTART:20241122T101300Z
DTEND:20241122T101300Z
LOCATION:
SUMMARY:IX Jornada de la Cebolleta Consuegra 2024
DESCRIPTION:El próximo 24 de noviembre\,  la Plaza de España de Consuegra
  se convertirá en el epicentro de los sabores manchegos con la celebració
 n de las IX Jornadas de la Cebolleta\,  un evento que rinde homenaje a uno 
 de los productos más emblemáticos de la comarca: la cebolleta\,  también
  conocida como[..]\nhttps://aytoconsuegra.es/agenda-ciudadana/ix-jornada-de
 -la-cebolleta-consuegra-2024/
URL:https://aytoconsuegra.es/agenda-ciudadana/ix-jornada-de-la-cebolleta-consuegra-2024/
END:VEVENT
END:VCALENDAR