BEGIN:VCALENDAR
VERSION:2.0
PRODID:-//eventon.com NONSGML v1.0//EN
CALSCALE:GREGORIAN
METHOD:PUBLISH
BEGIN:VEVENT
UID:69e757581aa6f
DTSTAMP:20260421T105416Z
DTSTART:20240615
DTEND:20240616
LOCATION:
SUMMARY:Torneo de verano Fútbol 7 SENIOR
DESCRIPTION:Club Atlético Consuegra junto al Ayuntamiento organizan torneo
  veraniego de fútbol 7\,  categoría SENIOR (+16). CUÁNDO: A partir del 1
 5 de junio\,  todos los sábados. Incluye fase de grupos\,  cruces\,  semi
 finales y final. DÓNDE: Campo de Deportes «El Amarguillo» de Consuegra. 
 CATEGORÍA SENIOR + 16 PRECIO: 180€ por equipo (se abonará[..]\nhttps://
 aytoconsuegra.es/agenda-ciudadana/torneo-de-verano-futbol-7-senior/
URL:https://aytoconsuegra.es/agenda-ciudadana/torneo-de-verano-futbol-7-senior/
END:VEVENT
END:VCALENDAR